BEGIN:VCALENDAR
VERSION:2.0
PRODID:-//Dem-NPL Party - ECPv6.15.20//NONSGML v1.0//EN
CALSCALE:GREGORIAN
METHOD:PUBLISH
X-ORIGINAL-URL:https://demnpl.com
X-WR-CALDESC:Events for Dem-NPL Party
REFRESH-INTERVAL;VALUE=DURATION:PT1H
X-Robots-Tag:noindex
X-PUBLISHED-TTL:PT1H
BEGIN:VTIMEZONE
TZID:America/North_Dakota/Center
BEGIN:DAYLIGHT
TZOFFSETFROM:-0600
TZOFFSETTO:-0500
TZNAME:CDT
DTSTART:20210314T080000
END:DAYLIGHT
BEGIN:STANDARD
TZOFFSETFROM:-0500
TZOFFSETTO:-0600
TZNAME:CST
DTSTART:20211107T070000
END:STANDARD
BEGIN:DAYLIGHT
TZOFFSETFROM:-0600
TZOFFSETTO:-0500
TZNAME:CDT
DTSTART:20220313T080000
END:DAYLIGHT
BEGIN:STANDARD
TZOFFSETFROM:-0500
TZOFFSETTO:-0600
TZNAME:CST
DTSTART:20221106T070000
END:STANDARD
BEGIN:DAYLIGHT
TZOFFSETFROM:-0600
TZOFFSETTO:-0500
TZNAME:CDT
DTSTART:20230312T080000
END:DAYLIGHT
BEGIN:STANDARD
TZOFFSETFROM:-0500
TZOFFSETTO:-0600
TZNAME:CST
DTSTART:20231105T070000
END:STANDARD
BEGIN:DAYLIGHT
TZOFFSETFROM:-0600
TZOFFSETTO:-0500
TZNAME:CDT
DTSTART:20240310T080000
END:DAYLIGHT
BEGIN:STANDARD
TZOFFSETFROM:-0500
TZOFFSETTO:-0600
TZNAME:CST
DTSTART:20241103T070000
END:STANDARD
BEGIN:DAYLIGHT
TZOFFSETFROM:-0600
TZOFFSETTO:-0500
TZNAME:CDT
DTSTART:20250309T080000
END:DAYLIGHT
BEGIN:STANDARD
TZOFFSETFROM:-0500
TZOFFSETTO:-0600
TZNAME:CST
DTSTART:20251102T070000
END:STANDARD
BEGIN:DAYLIGHT
TZOFFSETFROM:-0600
TZOFFSETTO:-0500
TZNAME:CDT
DTSTART:20260308T080000
END:DAYLIGHT
BEGIN:STANDARD
TZOFFSETFROM:-0500
TZOFFSETTO:-0600
TZNAME:CST
DTSTART:20261101T070000
END:STANDARD
BEGIN:DAYLIGHT
TZOFFSETFROM:-0600
TZOFFSETTO:-0500
TZNAME:CDT
DTSTART:20270314T080000
END:DAYLIGHT
BEGIN:STANDARD
TZOFFSETFROM:-0500
TZOFFSETTO:-0600
TZNAME:CST
DTSTART:20271107T070000
END:STANDARD
END:VTIMEZONE
BEGIN:VEVENT
DTSTART;TZID=America/North_Dakota/Center:20260207T093000
DTEND;TZID=America/North_Dakota/Center:20260207T123000
DTSTAMP:20260423T055226
CREATED:20260105T194155Z
LAST-MODIFIED:20260105T194155Z
UID:10002647-1770456600-1770467400@demnpl.com
SUMMARY:Cass County Democratic-NPL District Conventions
DESCRIPTION:ND Democrats in Districts 10\, 11\, 13\, 16\, 21\, 22\, 27\, 41\, 44\, 45\, 46 will meet at Carl Ben Eielson Middle school on February 7\, 2026 to endorse candidates in the odd numbered districts and elect delegates and alternates to attend the ND Democratic-NPL State Convention in Bismarck on March 6-8\, 2026. \nCarl Ben Eielson Middle School: 1601 13th Ave S\, Fargo\, ND 58103
URL:https://demnpl.com/event/cass-county-democratic-npl-district-conventions/
LOCATION:Carl Ben Eielson Middle School\, 1601 13th Ave S\, Fargo\, ND\, 58103-3957\, United States
CATEGORIES:Dem-NPL,District Convention
GEO:46.8628011;-96.8065064
X-APPLE-STRUCTURED-LOCATION;VALUE=URI;X-ADDRESS=Carl Ben Eielson Middle School 1601 13th Ave S Fargo ND 58103-3957 United States;X-APPLE-RADIUS=500;X-TITLE=1601 13th Ave S:geo:-96.8065064,46.8628011
END:VEVENT
BEGIN:VEVENT
DTSTART;TZID=America/North_Dakota/Center:20250717T180000
DTEND;TZID=America/North_Dakota/Center:20250717T200000
DTSTAMP:20260423T055226
CREATED:20250714T141013Z
LAST-MODIFIED:20250714T141013Z
UID:10002486-1752775200-1752782400@demnpl.com
SUMMARY:District 27 Picnic
DESCRIPTION:Join us for a family friendly night in Horace! We will be having a summer get-together. Come out for hotdogs and other fun!
URL:https://demnpl.com/event/district-27-picnic/
LOCATION:Meadowlark Park\, 8873 Lost River RD\, Horace\, N\, 58047\, United States
ORGANIZER;CN="District 27 Democratic-NPL":MAILTO:thomas.casler.1@gmail.com
END:VEVENT
BEGIN:VEVENT
DTSTART;TZID=America/North_Dakota/Center:20250424T190000
DTEND;TZID=America/North_Dakota/Center:20250424T200000
DTSTAMP:20260423T055226
CREATED:20250415T201924Z
LAST-MODIFIED:20250415T201924Z
UID:10002380-1745521200-1745524800@demnpl.com
SUMMARY:District 27 Dem-NPL Meeting
DESCRIPTION:We invite you to attend our monthly meeting at Horace Headquarters Restaurant & Bar\, 7951 Jacks Way Suite 104\, Horace\, ND. This will be our first District 27 meeting in quite some time as we work to revitalize our efforts in District 27.
URL:https://demnpl.com/event/district-27-dem-npl-meeting/
LOCATION:Horace Headquarters Restaurant & Sports Bar\, 7951 Jacks Wy Ste. #104\, Horace\, ND\, United States
CATEGORIES:Dem-NPL
ORGANIZER;CN="District 27 Democratic-NPL":MAILTO:thomas.casler.1@gmail.com
END:VEVENT
BEGIN:VEVENT
DTSTART;TZID=America/North_Dakota/Center:20230719T180000
DTEND;TZID=America/North_Dakota/Center:20230719T200000
DTSTAMP:20260423T055226
CREATED:20230711T183143Z
LAST-MODIFIED:20230711T183143Z
UID:10001520-1689789600-1689796800@demnpl.com
SUMMARY:D10 and D27 Game Night
DESCRIPTION:Join us for a free family-friendly event with board games\, Jackbox\, and food! Games will be provided\, but bring one to share! Rustad Recreation Center\, Dakota Room.
URL:https://demnpl.com/event/d10-and-d27-game-night/
LOCATION:Rustad Recreation Center\, 601 26th Ave E\, West Fargo\, ND\, United States
ORGANIZER;CN="District 27 Democratic-NPL":MAILTO:thomas.casler.1@gmail.com
END:VEVENT
BEGIN:VEVENT
DTSTART;TZID=America/North_Dakota/Center:20220820T160000
DTEND;TZID=America/North_Dakota/Center:20220820T173000
DTSTAMP:20260423T055226
CREATED:20220819T155559Z
LAST-MODIFIED:20220819T155559Z
UID:10001199-1661011200-1661016600@demnpl.com
SUMMARY:Walk with the Dem-NPL in the Horace Bean Days Parade!
DESCRIPTION:Come walk with Rep Ruth Buffalo\, Sonja Kaye\, and Thomas Casler in the Horace Bean Days Parade! Line up is on Chestnut Drive in Horace at 4:00 PM\, Parade starts at 5:00 PM!
URL:https://demnpl.com/event/walk-with-the-dem-npl-in-the-horace-bean-days-parade/
LOCATION:Horace\, ND\, Horace\, ND\, United States
ORGANIZER;CN="District 27 Democratic-NPL":MAILTO:thomas.casler.1@gmail.com
END:VEVENT
BEGIN:VEVENT
DTSTART;TZID=America/North_Dakota/Center:20220525T180000
DTEND;TZID=America/North_Dakota/Center:20220525T193000
DTSTAMP:20260423T055226
CREATED:20220427T191918Z
LAST-MODIFIED:20220427T191918Z
UID:10001455-1653501600-1653507000@demnpl.com
SUMMARY:District 27 Candidate Meet & Greet
DESCRIPTION:Meet the candidates running in District 27! Sonja Kaye is running for State Senate and Rep. Ruth Buffalo and Thomas Casler are running for House.
URL:https://demnpl.com/event/district-27-candidate-meet-greet/
LOCATION:Big Erv’s\, 412 Main St.\, Horace\, ND\, 58047\, United States
ORGANIZER;CN="District 27 Democratic-NPL":MAILTO:thomas.casler.1@gmail.com
END:VEVENT
END:VCALENDAR