BEGIN:VCALENDAR
VERSION:2.0
PRODID:-//Dem-NPL Party - ECPv6.15.20//NONSGML v1.0//EN
CALSCALE:GREGORIAN
METHOD:PUBLISH
X-ORIGINAL-URL:https://demnpl.com
X-WR-CALDESC:Events for Dem-NPL Party
REFRESH-INTERVAL;VALUE=DURATION:PT1H
X-Robots-Tag:noindex
X-PUBLISHED-TTL:PT1H
BEGIN:VTIMEZONE
TZID:America/North_Dakota/Center
BEGIN:DAYLIGHT
TZOFFSETFROM:-0600
TZOFFSETTO:-0500
TZNAME:CDT
DTSTART:20250309T080000
END:DAYLIGHT
BEGIN:STANDARD
TZOFFSETFROM:-0500
TZOFFSETTO:-0600
TZNAME:CST
DTSTART:20251102T070000
END:STANDARD
BEGIN:DAYLIGHT
TZOFFSETFROM:-0600
TZOFFSETTO:-0500
TZNAME:CDT
DTSTART:20260308T080000
END:DAYLIGHT
BEGIN:STANDARD
TZOFFSETFROM:-0500
TZOFFSETTO:-0600
TZNAME:CST
DTSTART:20261101T070000
END:STANDARD
BEGIN:DAYLIGHT
TZOFFSETFROM:-0600
TZOFFSETTO:-0500
TZNAME:CDT
DTSTART:20270314T080000
END:DAYLIGHT
BEGIN:STANDARD
TZOFFSETFROM:-0500
TZOFFSETTO:-0600
TZNAME:CST
DTSTART:20271107T070000
END:STANDARD
END:VTIMEZONE
BEGIN:VEVENT
DTSTART;TZID=America/North_Dakota/Center:20260306T180000
DTEND;TZID=America/North_Dakota/Center:20260306T200000
DTSTAMP:20260425T093728
CREATED:20260206T202352Z
LAST-MODIFIED:20260206T202352Z
UID:10002691-1772820000-1772827200@demnpl.com
SUMMARY:Finally Friday Social in Minot!
DESCRIPTION:Time to celebrate the weekend!
URL:https://demnpl.com/event/finally-friday-social-in-minot/2026-03-06/
LOCATION:The Spot\, 6 2nd St NE\, Minot\, ND\, United States
CATEGORIES:Dem-NPL
ORGANIZER;CN="Souris Valley Dem-NPL":MAILTO:chair@sourisvalleydemnpl.com
END:VEVENT
BEGIN:VEVENT
DTSTART;TZID=America/North_Dakota/Center:20260310T173000
DTEND;TZID=America/North_Dakota/Center:20260310T183000
DTSTAMP:20260425T093728
CREATED:20251007T171506Z
LAST-MODIFIED:20251007T171507Z
UID:10002374-1773163800-1773167400@demnpl.com
SUMMARY:Cass County Democratic-NPL Policy Meeting
DESCRIPTION:Our monthly meeting which includes representatives from the 11 Legislative Districts in Cass County\, elected Legislators and staff.
URL:https://demnpl.com/event/cass-county-democratic-npl-policy-meeting-2/2026-03-10/
LOCATION:1325 23rd St S\, Suite B\, Fargo\, ND 58103\, N\, United States
CATEGORIES:Dem-NPL
END:VEVENT
BEGIN:VEVENT
DTSTART;TZID=America/North_Dakota/Center:20260311T190000
DTEND;TZID=America/North_Dakota/Center:20260311T200000
DTSTAMP:20260425T093728
CREATED:20250805T151646Z
LAST-MODIFIED:20250805T151646Z
UID:10002497-1773255600-1773259200@demnpl.com
SUMMARY:Dickinson Area Democratic-NPL meeting
DESCRIPTION:Districts 37\, 36\, and 39 meet every second Wednesday after Drinking Liberally!
URL:https://demnpl.com/event/dickinson-area-democratic-npl-meeting/2026-03-11/
LOCATION:The Press Box at Players Sports Bar & Grill\, 2050 1st Ave E\, Dickinson\, ND\, 58601\, United States
CATEGORIES:Dem-NPL
END:VEVENT
BEGIN:VEVENT
DTSTART;TZID=America/North_Dakota/Center:20260313T180000
DTEND;TZID=America/North_Dakota/Center:20260313T200000
DTSTAMP:20260425T093728
CREATED:20260206T202352Z
LAST-MODIFIED:20260206T202352Z
UID:10002692-1773424800-1773432000@demnpl.com
SUMMARY:Finally Friday Social in Minot!
DESCRIPTION:Time to celebrate the weekend!
URL:https://demnpl.com/event/finally-friday-social-in-minot/2026-03-13/
LOCATION:The Spot\, 6 2nd St NE\, Minot\, ND\, United States
CATEGORIES:Dem-NPL
ORGANIZER;CN="Souris Valley Dem-NPL":MAILTO:chair@sourisvalleydemnpl.com
END:VEVENT
BEGIN:VEVENT
DTSTART;TZID=America/North_Dakota/Center:20260314T103000
DTEND;TZID=America/North_Dakota/Center:20260314T120000
DTSTAMP:20260425T093728
CREATED:20260313T163423Z
LAST-MODIFIED:20260313T163423Z
UID:10002744-1773484200-1773489600@demnpl.com
SUMMARY:Walk in the St. Patrick's Parade
DESCRIPTION:Join us to walk in the St. Patrick’s Parade!
URL:https://demnpl.com/event/walk-in-the-st-patricks-parade/
LOCATION:6th Street North and Center Ave\, Moorhead\, MN\, United States
CATEGORIES:Dem-NPL
END:VEVENT
BEGIN:VEVENT
DTSTART;TZID=America/North_Dakota/Center:20260316T140000
DTEND;TZID=America/North_Dakota/Center:20260316T150000
DTSTAMP:20260425T093728
CREATED:20260313T162707Z
LAST-MODIFIED:20260313T162707Z
UID:10002742-1773669600-1773673200@demnpl.com
SUMMARY:Meet your District 7 Dem-NPL House Candidates
DESCRIPTION:Meet your District 7 House candidates\, Dr. Jason Thoms and Tiffany Williams-Rice from 2 to 3 pm on Monday\, March 16th at Dunn Brothers Coffee\, 1401 Skyline Blvd\, Bismarck\, ND!!
URL:https://demnpl.com/event/meet-your-district-7-dem-npl-house-candidates/
LOCATION:Dunn Brothers\, 1401 Skyline Blvd.\, Bismarck\, North Dakota\, 58503
CATEGORIES:Dem-NPL
END:VEVENT
BEGIN:VEVENT
DTSTART;TZID=America/North_Dakota/Center:20260316T190000
DTEND;TZID=America/North_Dakota/Center:20260316T203000
DTSTAMP:20260425T093728
CREATED:20250523T175559Z
LAST-MODIFIED:20250523T175600Z
UID:10002405-1773687600-1773693000@demnpl.com
SUMMARY:Executive Committee Meeting
DESCRIPTION:The Executive Committee Meeting for the State Democratic-NPL Party. Each Third Monday of the Month \nFor more information contact Adam Goldwyn at adam.goldwyn@demnpl.com
URL:https://demnpl.com/event/executive-committee-meeting-9-3/2026-03-16/
LOCATION:ND
CATEGORIES:Dem-NPL
ORGANIZER;CN="North Dakota Democratic-NPL Party":MAILTO:people@demnpl.com
END:VEVENT
BEGIN:VEVENT
DTSTART;TZID=America/North_Dakota/Center:20260318T170000
DTEND;TZID=America/North_Dakota/Center:20260318T180000
DTSTAMP:20260425T093728
CREATED:20251017T144627Z
LAST-MODIFIED:20251017T144627Z
UID:10002567-1773853200-1773856800@demnpl.com
SUMMARY:District 11 Meeting
DESCRIPTION:District 11 Democratic-NPL meets every 3rd Wednesday of the month
URL:https://demnpl.com/event/district-11-meeting-3/2026-03-18/
LOCATION:1325 23rd St S\, Suite B\, Fargo\, ND 58103\, N\, United States
CATEGORIES:Dem-NPL
END:VEVENT
BEGIN:VEVENT
DTSTART;TZID=America/North_Dakota/Center:20260319T190000
DTEND;TZID=America/North_Dakota/Center:20260319T200000
DTSTAMP:20260425T093728
CREATED:20260204T201817Z
LAST-MODIFIED:20260316T145106Z
UID:10002685-1773946800-1773950400@demnpl.com
SUMMARY:District 24 Meeting
DESCRIPTION:District 24 Dem-NPL   \nMonthly Membership Meeting:  \nThursday\, March 19\n7:00 p.m.\nRoom 156\, Gaukler Wellness Center\n733 8th Ave SW\nValley City   \nWe hope to see you there!
URL:https://demnpl.com/event/district-24-meeting-5/
LOCATION:Gaukler Family Wellness Center\, 733 8th Avenue SW\, Valley City\, North Dakota
CATEGORIES:Dem-NPL
END:VEVENT
BEGIN:VEVENT
DTSTART;TZID=America/North_Dakota/Center:20260320T180000
DTEND;TZID=America/North_Dakota/Center:20260320T200000
DTSTAMP:20260425T093728
CREATED:20260206T202352Z
LAST-MODIFIED:20260206T202352Z
UID:10002693-1774029600-1774036800@demnpl.com
SUMMARY:Finally Friday Social in Minot!
DESCRIPTION:Time to celebrate the weekend!
URL:https://demnpl.com/event/finally-friday-social-in-minot/2026-03-20/
LOCATION:The Spot\, 6 2nd St NE\, Minot\, ND\, United States
CATEGORIES:Dem-NPL
ORGANIZER;CN="Souris Valley Dem-NPL":MAILTO:chair@sourisvalleydemnpl.com
END:VEVENT
BEGIN:VEVENT
DTSTART;TZID=America/North_Dakota/Center:20260324T183000
DTEND;TZID=America/North_Dakota/Center:20260324T200000
DTSTAMP:20260425T093728
CREATED:20260317T213719Z
LAST-MODIFIED:20260320T150123Z
UID:10002746-1774377000-1774382400@demnpl.com
SUMMARY:District 25 Monthly Meeting
DESCRIPTION:Come connect with fellow constituents\, socialize\, and be part of the conversation as we discuss and vote on candidate contributions and plan upcoming fundraising efforts. We’d love to see you there!
URL:https://demnpl.com/event/district-25-monthly-meeting/
LOCATION:Twin Town Tavern\, 404 Dakota Ave\, Wahpeton\, ND\, 58075\, United States
CATEGORIES:Dem-NPL
END:VEVENT
BEGIN:VEVENT
DTSTART;TZID=America/North_Dakota/Center:20260326T170000
DTEND;TZID=America/North_Dakota/Center:20260326T183000
DTSTAMP:20260425T093728
CREATED:20260316T150650Z
LAST-MODIFIED:20260316T150650Z
UID:10002745-1774544400-1774549800@demnpl.com
SUMMARY:District 13 Dem-NPL Meeting
DESCRIPTION:Our Guest Speaker is Rep. Mary Schneider from District 21\, who is running for the Senate.  \nRoasted Chicken Special $2.00 off \nCome and join the fun as we fundraise for Landis\, Brenda\, and Maggi!
URL:https://demnpl.com/event/district-13-dem-npl-meeting/
LOCATION:West Fargo VFW Post 7564
CATEGORIES:Dem-NPL
ORGANIZER;CN="North Dakota Dem-NPL District 13":MAILTO:seymour@srt.com
GEO:46.873543;-96.9044399
END:VEVENT
BEGIN:VEVENT
DTSTART;TZID=America/North_Dakota/Center:20260327T180000
DTEND;TZID=America/North_Dakota/Center:20260327T200000
DTSTAMP:20260425T093728
CREATED:20260206T202352Z
LAST-MODIFIED:20260206T202352Z
UID:10002694-1774634400-1774641600@demnpl.com
SUMMARY:Finally Friday Social in Minot!
DESCRIPTION:Time to celebrate the weekend!
URL:https://demnpl.com/event/finally-friday-social-in-minot/2026-03-27/
LOCATION:The Spot\, 6 2nd St NE\, Minot\, ND\, United States
CATEGORIES:Dem-NPL
ORGANIZER;CN="Souris Valley Dem-NPL":MAILTO:chair@sourisvalleydemnpl.com
END:VEVENT
BEGIN:VEVENT
DTSTART;TZID=America/North_Dakota/Center:20260403T180000
DTEND;TZID=America/North_Dakota/Center:20260403T200000
DTSTAMP:20260425T093728
CREATED:20260206T202352Z
LAST-MODIFIED:20260206T202352Z
UID:10002695-1775239200-1775246400@demnpl.com
SUMMARY:Finally Friday Social in Minot!
DESCRIPTION:Time to celebrate the weekend!
URL:https://demnpl.com/event/finally-friday-social-in-minot/2026-04-03/
LOCATION:The Spot\, 6 2nd St NE\, Minot\, ND\, United States
CATEGORIES:Dem-NPL
ORGANIZER;CN="Souris Valley Dem-NPL":MAILTO:chair@sourisvalleydemnpl.com
END:VEVENT
BEGIN:VEVENT
DTSTART;TZID=America/North_Dakota/Center:20260404T090000
DTEND;TZID=America/North_Dakota/Center:20260404T110000
DTSTAMP:20260425T093728
CREATED:20260329T230922Z
LAST-MODIFIED:20260329T230922Z
UID:10002751-1775293200-1775300400@demnpl.com
SUMMARY:Meet the Candidate - Michael A. Steele District 23
DESCRIPTION:Join us on the campaign trail\, starting Saturday\, April 4th! 🇺🇸 \nCome meet the candidate\, hear the vision for our future\, and be part of the movement to drive real change in our community. This is your chance to ask questions and share what matters most to you ahead of the North Dakota State Primary. \n📍 The Daily Addiction Coffee House – Williston\, ND\n🕘 Saturday at 9:00 AM \nYour voice matters\, and it all starts with conversations like these. Bring a friend and join us\, we’re building this change together.
URL:https://demnpl.com/event/meet-the-candidate-michael-a-steele-district-23/
LOCATION:Daily Addiction\, 307 Main Street\, Williston\, ND\, 58801\, United States
CATEGORIES:Dem-NPL
END:VEVENT
BEGIN:VEVENT
DTSTART;TZID=America/North_Dakota/Center:20260407T180000
DTEND;TZID=America/North_Dakota/Center:20260407T193000
DTSTAMP:20260425T093728
CREATED:20251107T230444Z
LAST-MODIFIED:20251107T230444Z
UID:10002635-1775584800-1775590200@demnpl.com
SUMMARY:Region 2 Century Club Appreciation Event
DESCRIPTION:The Region 2 Century Club Appreciation Event will be April 7\, 2026 at 6 pm.\nParker Center\, Minot ND\n-21 1st Ave SE\, Minot\, ND 58701
URL:https://demnpl.com/event/region-2-century-club-appreciation-event/
LOCATION:Parker Center\, 21 1st Ave. SE\, Minot\, ND\, 58701\, United States
CATEGORIES:Dem-NPL
ORGANIZER;CN="North Dakota Democratic-NPL Party":MAILTO:people@demnpl.com
END:VEVENT
BEGIN:VEVENT
DTSTART;TZID=America/North_Dakota/Center:20260408T190000
DTEND;TZID=America/North_Dakota/Center:20260408T200000
DTSTAMP:20260425T093728
CREATED:20250805T151646Z
LAST-MODIFIED:20250805T151646Z
UID:10002498-1775674800-1775678400@demnpl.com
SUMMARY:Dickinson Area Democratic-NPL meeting
DESCRIPTION:Districts 37\, 36\, and 39 meet every second Wednesday after Drinking Liberally!
URL:https://demnpl.com/event/dickinson-area-democratic-npl-meeting/2026-04-08/
LOCATION:The Press Box at Players Sports Bar & Grill\, 2050 1st Ave E\, Dickinson\, ND\, 58601\, United States
CATEGORIES:Dem-NPL
END:VEVENT
BEGIN:VEVENT
DTSTART;TZID=America/North_Dakota/Center:20260410T170000
DTEND;TZID=America/North_Dakota/Center:20260410T190000
DTSTAMP:20260425T093728
CREATED:20260320T144949Z
LAST-MODIFIED:20260320T145319Z
UID:10002748-1775840400-1775847600@demnpl.com
SUMMARY:Walleye Fish Fry and Representative LaurieBeth Hager’s Birthday
DESCRIPTION:Please join us to celebrate Representative LaurieBeth Hager’s Birthday and a Walleye Fish Fry.We need a count by April 1st. Please use the link below to sign-up and be counted. \nThere may also be cake \nhttps://secure.actblue.com/donate/birthdaywalleye
URL:https://demnpl.com/event/walleye-fish-fry-and-representative-lauriebeth-hagers-birthday/
LOCATION:Amvets 1001 1st Ave S\, Fargo
CATEGORIES:Dem-NPL
END:VEVENT
BEGIN:VEVENT
DTSTART;TZID=America/North_Dakota/Center:20260410T180000
DTEND;TZID=America/North_Dakota/Center:20260410T200000
DTSTAMP:20260425T093728
CREATED:20260206T202352Z
LAST-MODIFIED:20260206T202352Z
UID:10002696-1775844000-1775851200@demnpl.com
SUMMARY:Finally Friday Social in Minot!
DESCRIPTION:Time to celebrate the weekend!
URL:https://demnpl.com/event/finally-friday-social-in-minot/2026-04-10/
LOCATION:The Spot\, 6 2nd St NE\, Minot\, ND\, United States
CATEGORIES:Dem-NPL
ORGANIZER;CN="Souris Valley Dem-NPL":MAILTO:chair@sourisvalleydemnpl.com
END:VEVENT
BEGIN:VEVENT
DTSTART;TZID=America/North_Dakota/Center:20260412T140000
DTEND;TZID=America/North_Dakota/Center:20260412T160000
DTSTAMP:20260425T093728
CREATED:20260317T214628Z
LAST-MODIFIED:20260317T214704Z
UID:10002747-1776002400-1776009600@demnpl.com
SUMMARY:District 28 Bowling Blitz in Oakes
DESCRIPTION:Our next monthly meeting will be held in Oakes!\nJoin us for some bowling fun and bring an item for the food pantry!
URL:https://demnpl.com/event/district-28-bowling-blitz-in-oakes/
LOCATION:Shadow Lanes\, 410 Main Ave\, Oakes\, ND\, 58474\, United States
CATEGORIES:Dem-NPL
END:VEVENT
BEGIN:VEVENT
DTSTART;TZID=America/North_Dakota/Center:20260413T180000
DTEND;TZID=America/North_Dakota/Center:20260413T200000
DTSTAMP:20260425T093728
CREATED:20260413T205721Z
LAST-MODIFIED:20260413T205721Z
UID:10002755-1776103200-1776110400@demnpl.com
SUMMARY:Voter Contact Initiative - get ready to win!
DESCRIPTION:WE NEED YOU! \nHelp Us Reach Voters in North Dakota!\nNorth Dakota is the only state without voter registration\, which means we have to work extra hard to connect with voters and build our contact list. \nThat’s where the Voter Contact Initiative (VCI) comes in — and we need your help! \nJoin the Bismarck–Mandan Democratic-NPL for a quick training and community call night: \n🗓 Every Monday!\n⏰ 6:00–8:00 PM\n📍 Kennedy Center (1902 E Divide Ave) \nYou’ll learn how to make quick calls that help us update voter information and strengthen our organizing before the next election. Once you learn the system\, you can make calls anytime from home — but we’ll also keep meeting Monday nights at 6 PM for those who like the energy of doing it together. \n📱 Bring:\n• Your cell phone\n• A laptop or iPad \nPeople have already been making calls the past few weeks and it’s making a real difference. Come be part of it! \n👉 Whether you’re new or experienced\, we’d love to have you.
URL:https://demnpl.com/event/voter-contact-initiative-get-ready-to-win/2026-04-13/
LOCATION:Kennedy Center\, 1902 E Divide Ave\, Bismarck\, ND\, 58501\, United States
CATEGORIES:Dem-NPL
GEO:46.8237099;-100.7622754
X-APPLE-STRUCTURED-LOCATION;VALUE=URI;X-ADDRESS=Kennedy Center 1902 E Divide Ave Bismarck ND 58501 United States;X-APPLE-RADIUS=500;X-TITLE=1902 E Divide Ave:geo:-100.7622754,46.8237099
END:VEVENT
BEGIN:VEVENT
DTSTART;TZID=America/North_Dakota/Center:20260414T180000
DTEND;TZID=America/North_Dakota/Center:20260414T193000
DTSTAMP:20260425T093728
CREATED:20260413T204806Z
LAST-MODIFIED:20260413T205344Z
UID:10002754-1776189600-1776195000@demnpl.com
SUMMARY:Souris Valley Dem-NPL Monthly Meeting
DESCRIPTION:Join the Souris Valley Dem-NPL at our Monthly Meeting! \nAll Democrats and Nonpartisan Leaguers in Minot and the surrounding area are welcome as we discuss news and upcoming events.\nWe will be meeting at the Parker Center (21 1st Ave SE\, Minot\, ND) on Tuesday\, April 14th. There will be a social from 6PM – 6:30PM followed by the meeting from 6:30PM – 7:30PM.\nWe look forward to seeing you there!
URL:https://demnpl.com/event/souris-valley-dem-npl-monthly-meeting/
LOCATION:Parker Center\, 21 1st Ave. SE\, Minot\, ND\, 58701\, United States
CATEGORIES:Dem-NPL
ORGANIZER;CN="Souris Valley Dem-NPL":MAILTO:chair@sourisvalleydemnpl.com
END:VEVENT
BEGIN:VEVENT
DTSTART;TZID=America/North_Dakota/Center:20260414T190000
DTEND;TZID=America/North_Dakota/Center:20260414T210000
DTSTAMP:20260425T093728
CREATED:20260313T163124Z
LAST-MODIFIED:20260313T163124Z
UID:10002743-1776193200-1776200400@demnpl.com
SUMMARY:District 7 Dem-NPL Meeting
DESCRIPTION:The next meeting of the District 7 Dem-NPL will be Tuesday\, April 14\, 2026 from 7 pm to 9 pm in Room A at the Bismarck Veterans Memorial Library\, 515 North 5th Street. Come in the front doors and immediately go to the right to take the stairs or elevator to the basement. See you there!
URL:https://demnpl.com/event/district-7-dem-npl-meeting/
LOCATION:Bismarck Veterans Memorial Public Library\, 515 N 5th St\, Bismarck\, ND\, 58501\, United States
CATEGORIES:Dem-NPL
GEO:46.810103;-100.783778
X-APPLE-STRUCTURED-LOCATION;VALUE=URI;X-ADDRESS=Bismarck Veterans Memorial Public Library 515 N 5th St Bismarck ND 58501 United States;X-APPLE-RADIUS=500;X-TITLE=515 N 5th St:geo:-100.783778,46.810103
END:VEVENT
BEGIN:VEVENT
DTSTART;TZID=America/North_Dakota/Center:20260415T170000
DTEND;TZID=America/North_Dakota/Center:20260415T180000
DTSTAMP:20260425T093728
CREATED:20251017T144627Z
LAST-MODIFIED:20251017T144627Z
UID:10002568-1776272400-1776276000@demnpl.com
SUMMARY:District 11 Meeting
DESCRIPTION:District 11 Democratic-NPL meets every 3rd Wednesday of the month
URL:https://demnpl.com/event/district-11-meeting-3/2026-04-15/
LOCATION:1325 23rd St S\, Suite B\, Fargo\, ND 58103\, N\, United States
CATEGORIES:Dem-NPL
END:VEVENT
BEGIN:VEVENT
DTSTART;TZID=America/North_Dakota/Center:20260417T180000
DTEND;TZID=America/North_Dakota/Center:20260417T200000
DTSTAMP:20260425T093728
CREATED:20260206T202352Z
LAST-MODIFIED:20260206T202352Z
UID:10002697-1776448800-1776456000@demnpl.com
SUMMARY:Finally Friday Social in Minot!
DESCRIPTION:Time to celebrate the weekend!
URL:https://demnpl.com/event/finally-friday-social-in-minot/2026-04-17/
LOCATION:The Spot\, 6 2nd St NE\, Minot\, ND\, United States
CATEGORIES:Dem-NPL
ORGANIZER;CN="Souris Valley Dem-NPL":MAILTO:chair@sourisvalleydemnpl.com
END:VEVENT
BEGIN:VEVENT
DTSTART;TZID=America/North_Dakota/Center:20260420T180000
DTEND;TZID=America/North_Dakota/Center:20260420T200000
DTSTAMP:20260425T093728
CREATED:20260413T205721Z
LAST-MODIFIED:20260413T205721Z
UID:10002756-1776708000-1776715200@demnpl.com
SUMMARY:Voter Contact Initiative - get ready to win!
DESCRIPTION:WE NEED YOU! \nHelp Us Reach Voters in North Dakota!\nNorth Dakota is the only state without voter registration\, which means we have to work extra hard to connect with voters and build our contact list. \nThat’s where the Voter Contact Initiative (VCI) comes in — and we need your help! \nJoin the Bismarck–Mandan Democratic-NPL for a quick training and community call night: \n🗓 Every Monday!\n⏰ 6:00–8:00 PM\n📍 Kennedy Center (1902 E Divide Ave) \nYou’ll learn how to make quick calls that help us update voter information and strengthen our organizing before the next election. Once you learn the system\, you can make calls anytime from home — but we’ll also keep meeting Monday nights at 6 PM for those who like the energy of doing it together. \n📱 Bring:\n• Your cell phone\n• A laptop or iPad \nPeople have already been making calls the past few weeks and it’s making a real difference. Come be part of it! \n👉 Whether you’re new or experienced\, we’d love to have you.
URL:https://demnpl.com/event/voter-contact-initiative-get-ready-to-win/2026-04-20/
LOCATION:Kennedy Center\, 1902 E Divide Ave\, Bismarck\, ND\, 58501\, United States
CATEGORIES:Dem-NPL
GEO:46.8237099;-100.7622754
X-APPLE-STRUCTURED-LOCATION;VALUE=URI;X-ADDRESS=Kennedy Center 1902 E Divide Ave Bismarck ND 58501 United States;X-APPLE-RADIUS=500;X-TITLE=1902 E Divide Ave:geo:-100.7622754,46.8237099
END:VEVENT
BEGIN:VEVENT
DTSTART;TZID=America/North_Dakota/Center:20260420T190000
DTEND;TZID=America/North_Dakota/Center:20260420T203000
DTSTAMP:20260425T093728
CREATED:20250523T175559Z
LAST-MODIFIED:20250523T175600Z
UID:10002406-1776711600-1776717000@demnpl.com
SUMMARY:Executive Committee Meeting
DESCRIPTION:The Executive Committee Meeting for the State Democratic-NPL Party. Each Third Monday of the Month \nFor more information contact Adam Goldwyn at adam.goldwyn@demnpl.com
URL:https://demnpl.com/event/executive-committee-meeting-9-3/2026-04-20/
LOCATION:ND
CATEGORIES:Dem-NPL
ORGANIZER;CN="North Dakota Democratic-NPL Party":MAILTO:people@demnpl.com
END:VEVENT
BEGIN:VEVENT
DTSTART;TZID=America/North_Dakota/Center:20260421T190000
DTEND;TZID=America/North_Dakota/Center:20260421T200000
DTSTAMP:20260425T093728
CREATED:20260415T162845Z
LAST-MODIFIED:20260415T162845Z
UID:10002764-1776798000-1776801600@demnpl.com
SUMMARY:District 24 Dem-NPL April Membership Meeting
DESCRIPTION:Plan to attend the next membership meeting! \nDistrict 24 Dem-NPL April Membership Meeting  \nTuesday\, April 21  7 p.m.  \nLisbon Senior Citizen Center\, 625 Main Street \nHope to see you there!
URL:https://demnpl.com/event/district-24-dem-npl-april-membership-meeting/
LOCATION:Lisbon Senior Center\, 625 Main Street\, Lisbon\, ND\, United States
CATEGORIES:Dem-NPL
END:VEVENT
BEGIN:VEVENT
DTSTART;TZID=America/North_Dakota/Center:20260422T180000
DTEND;TZID=America/North_Dakota/Center:20260422T193000
DTSTAMP:20260425T093728
CREATED:20260413T203334Z
LAST-MODIFIED:20260413T204544Z
UID:10002753-1776880800-1776886200@demnpl.com
SUMMARY:Dem-NPL District 1 and District 23
DESCRIPTION:Join us for ND Dem-NPL District 1 and District 23 monthly meeting on Wednesday\, April 22nd at 6:00 pm at Saga’s Restaurant\, 18 2nd St East\, Williston\, ND. Mark your calendars!  Food and drink is available\, but not required. Our agenda will include discussion of any local\, state\, and federal issues that affect us\, as well as an election forum at the new Healthcare Training facility on WSC campus on Tuesday\, May 5 from 6-7:30 pm sponsored by the Williston Area Chamber of Commerce. All are encouraged to attend.  Also\, activities for Band Day May 9\, 2026 will be discussed.
URL:https://demnpl.com/event/dem-npl-district-1-and-district-23/
LOCATION:Saga’s\, 18 2nd St E\, Williston\, N\, 58801\, United States
CATEGORIES:Dem-NPL
END:VEVENT
BEGIN:VEVENT
DTSTART;TZID=America/North_Dakota/Center:20260423T180000
DTEND;TZID=America/North_Dakota/Center:20260423T193000
DTSTAMP:20260425T093728
CREATED:20260420T144106Z
LAST-MODIFIED:20260420T144106Z
UID:10002766-1776967200-1776972600@demnpl.com
SUMMARY:Meet and Greet with Jolene Bruce for 27
DESCRIPTION:Meet and greet for helpers to win district 27 house
URL:https://demnpl.com/event/meet-and-greet-with-jolene-bruce-for-27/
LOCATION:the grove\, 574 Main St N\, Horace nd\, Horace\, 58047
CATEGORIES:Dem-NPL
END:VEVENT
END:VCALENDAR