BEGIN:VCALENDAR
VERSION:2.0
PRODID:-//Dem-NPL Party - ECPv6.15.20//NONSGML v1.0//EN
CALSCALE:GREGORIAN
METHOD:PUBLISH
X-ORIGINAL-URL:https://demnpl.com
X-WR-CALDESC:Events for Dem-NPL Party
REFRESH-INTERVAL;VALUE=DURATION:PT1H
X-Robots-Tag:noindex
X-PUBLISHED-TTL:PT1H
BEGIN:VTIMEZONE
TZID:America/North_Dakota/Center
BEGIN:DAYLIGHT
TZOFFSETFROM:-0600
TZOFFSETTO:-0500
TZNAME:CDT
DTSTART:20250309T080000
END:DAYLIGHT
BEGIN:STANDARD
TZOFFSETFROM:-0500
TZOFFSETTO:-0600
TZNAME:CST
DTSTART:20251102T070000
END:STANDARD
BEGIN:DAYLIGHT
TZOFFSETFROM:-0600
TZOFFSETTO:-0500
TZNAME:CDT
DTSTART:20260308T080000
END:DAYLIGHT
BEGIN:STANDARD
TZOFFSETFROM:-0500
TZOFFSETTO:-0600
TZNAME:CST
DTSTART:20261101T070000
END:STANDARD
BEGIN:DAYLIGHT
TZOFFSETFROM:-0600
TZOFFSETTO:-0500
TZNAME:CDT
DTSTART:20270314T080000
END:DAYLIGHT
BEGIN:STANDARD
TZOFFSETFROM:-0500
TZOFFSETTO:-0600
TZNAME:CST
DTSTART:20271107T070000
END:STANDARD
END:VTIMEZONE
BEGIN:VEVENT
DTSTART;TZID=America/North_Dakota/Center:20260414T180000
DTEND;TZID=America/North_Dakota/Center:20260414T193000
DTSTAMP:20260425T091618
CREATED:20260413T204806Z
LAST-MODIFIED:20260413T205344Z
UID:10002754-1776189600-1776195000@demnpl.com
SUMMARY:Souris Valley Dem-NPL Monthly Meeting
DESCRIPTION:Join the Souris Valley Dem-NPL at our Monthly Meeting! \nAll Democrats and Nonpartisan Leaguers in Minot and the surrounding area are welcome as we discuss news and upcoming events.\nWe will be meeting at the Parker Center (21 1st Ave SE\, Minot\, ND) on Tuesday\, April 14th. There will be a social from 6PM – 6:30PM followed by the meeting from 6:30PM – 7:30PM.\nWe look forward to seeing you there!
URL:https://demnpl.com/event/souris-valley-dem-npl-monthly-meeting/
LOCATION:Parker Center\, 21 1st Ave. SE\, Minot\, ND\, 58701\, United States
CATEGORIES:Dem-NPL
ORGANIZER;CN="Souris Valley Dem-NPL":MAILTO:chair@sourisvalleydemnpl.com
END:VEVENT
BEGIN:VEVENT
DTSTART;TZID=America/North_Dakota/Center:20260414T190000
DTEND;TZID=America/North_Dakota/Center:20260414T210000
DTSTAMP:20260425T091618
CREATED:20260313T163124Z
LAST-MODIFIED:20260313T163124Z
UID:10002743-1776193200-1776200400@demnpl.com
SUMMARY:District 7 Dem-NPL Meeting
DESCRIPTION:The next meeting of the District 7 Dem-NPL will be Tuesday\, April 14\, 2026 from 7 pm to 9 pm in Room A at the Bismarck Veterans Memorial Library\, 515 North 5th Street. Come in the front doors and immediately go to the right to take the stairs or elevator to the basement. See you there!
URL:https://demnpl.com/event/district-7-dem-npl-meeting/
LOCATION:Bismarck Veterans Memorial Public Library\, 515 N 5th St\, Bismarck\, ND\, 58501\, United States
CATEGORIES:Dem-NPL
GEO:46.810103;-100.783778
X-APPLE-STRUCTURED-LOCATION;VALUE=URI;X-ADDRESS=Bismarck Veterans Memorial Public Library 515 N 5th St Bismarck ND 58501 United States;X-APPLE-RADIUS=500;X-TITLE=515 N 5th St:geo:-100.783778,46.810103
END:VEVENT
BEGIN:VEVENT
DTSTART;TZID=America/North_Dakota/Center:20260415T170000
DTEND;TZID=America/North_Dakota/Center:20260415T180000
DTSTAMP:20260425T091618
CREATED:20251017T144627Z
LAST-MODIFIED:20251017T144627Z
UID:10002568-1776272400-1776276000@demnpl.com
SUMMARY:District 11 Meeting
DESCRIPTION:District 11 Democratic-NPL meets every 3rd Wednesday of the month
URL:https://demnpl.com/event/district-11-meeting-3/2026-04-15/
LOCATION:1325 23rd St S\, Suite B\, Fargo\, ND 58103\, N\, United States
CATEGORIES:Dem-NPL
END:VEVENT
BEGIN:VEVENT
DTSTART;TZID=America/North_Dakota/Center:20260417T180000
DTEND;TZID=America/North_Dakota/Center:20260417T200000
DTSTAMP:20260425T091618
CREATED:20260206T202352Z
LAST-MODIFIED:20260206T202352Z
UID:10002697-1776448800-1776456000@demnpl.com
SUMMARY:Finally Friday Social in Minot!
DESCRIPTION:Time to celebrate the weekend!
URL:https://demnpl.com/event/finally-friday-social-in-minot/2026-04-17/
LOCATION:The Spot\, 6 2nd St NE\, Minot\, ND\, United States
CATEGORIES:Dem-NPL
ORGANIZER;CN="Souris Valley Dem-NPL":MAILTO:chair@sourisvalleydemnpl.com
END:VEVENT
BEGIN:VEVENT
DTSTART;TZID=America/North_Dakota/Center:20260420T180000
DTEND;TZID=America/North_Dakota/Center:20260420T200000
DTSTAMP:20260425T091618
CREATED:20260413T205721Z
LAST-MODIFIED:20260413T205721Z
UID:10002756-1776708000-1776715200@demnpl.com
SUMMARY:Voter Contact Initiative - get ready to win!
DESCRIPTION:WE NEED YOU! \nHelp Us Reach Voters in North Dakota!\nNorth Dakota is the only state without voter registration\, which means we have to work extra hard to connect with voters and build our contact list. \nThat’s where the Voter Contact Initiative (VCI) comes in — and we need your help! \nJoin the Bismarck–Mandan Democratic-NPL for a quick training and community call night: \n🗓 Every Monday!\n⏰ 6:00–8:00 PM\n📍 Kennedy Center (1902 E Divide Ave) \nYou’ll learn how to make quick calls that help us update voter information and strengthen our organizing before the next election. Once you learn the system\, you can make calls anytime from home — but we’ll also keep meeting Monday nights at 6 PM for those who like the energy of doing it together. \n📱 Bring:\n• Your cell phone\n• A laptop or iPad \nPeople have already been making calls the past few weeks and it’s making a real difference. Come be part of it! \n👉 Whether you’re new or experienced\, we’d love to have you.
URL:https://demnpl.com/event/voter-contact-initiative-get-ready-to-win/2026-04-20/
LOCATION:Kennedy Center\, 1902 E Divide Ave\, Bismarck\, ND\, 58501\, United States
CATEGORIES:Dem-NPL
GEO:46.8237099;-100.7622754
X-APPLE-STRUCTURED-LOCATION;VALUE=URI;X-ADDRESS=Kennedy Center 1902 E Divide Ave Bismarck ND 58501 United States;X-APPLE-RADIUS=500;X-TITLE=1902 E Divide Ave:geo:-100.7622754,46.8237099
END:VEVENT
BEGIN:VEVENT
DTSTART;TZID=America/North_Dakota/Center:20260420T190000
DTEND;TZID=America/North_Dakota/Center:20260420T203000
DTSTAMP:20260425T091618
CREATED:20250523T175559Z
LAST-MODIFIED:20250523T175600Z
UID:10002406-1776711600-1776717000@demnpl.com
SUMMARY:Executive Committee Meeting
DESCRIPTION:The Executive Committee Meeting for the State Democratic-NPL Party. Each Third Monday of the Month \nFor more information contact Adam Goldwyn at adam.goldwyn@demnpl.com
URL:https://demnpl.com/event/executive-committee-meeting-9-3/2026-04-20/
LOCATION:ND
CATEGORIES:Dem-NPL
ORGANIZER;CN="North Dakota Democratic-NPL Party":MAILTO:people@demnpl.com
END:VEVENT
BEGIN:VEVENT
DTSTART;TZID=America/North_Dakota/Center:20260421T190000
DTEND;TZID=America/North_Dakota/Center:20260421T200000
DTSTAMP:20260425T091618
CREATED:20260415T162845Z
LAST-MODIFIED:20260415T162845Z
UID:10002764-1776798000-1776801600@demnpl.com
SUMMARY:District 24 Dem-NPL April Membership Meeting
DESCRIPTION:Plan to attend the next membership meeting! \nDistrict 24 Dem-NPL April Membership Meeting  \nTuesday\, April 21  7 p.m.  \nLisbon Senior Citizen Center\, 625 Main Street \nHope to see you there!
URL:https://demnpl.com/event/district-24-dem-npl-april-membership-meeting/
LOCATION:Lisbon Senior Center\, 625 Main Street\, Lisbon\, ND\, United States
CATEGORIES:Dem-NPL
END:VEVENT
BEGIN:VEVENT
DTSTART;TZID=America/North_Dakota/Center:20260422T180000
DTEND;TZID=America/North_Dakota/Center:20260422T193000
DTSTAMP:20260425T091618
CREATED:20260413T203334Z
LAST-MODIFIED:20260413T204544Z
UID:10002753-1776880800-1776886200@demnpl.com
SUMMARY:Dem-NPL District 1 and District 23
DESCRIPTION:Join us for ND Dem-NPL District 1 and District 23 monthly meeting on Wednesday\, April 22nd at 6:00 pm at Saga’s Restaurant\, 18 2nd St East\, Williston\, ND. Mark your calendars!  Food and drink is available\, but not required. Our agenda will include discussion of any local\, state\, and federal issues that affect us\, as well as an election forum at the new Healthcare Training facility on WSC campus on Tuesday\, May 5 from 6-7:30 pm sponsored by the Williston Area Chamber of Commerce. All are encouraged to attend.  Also\, activities for Band Day May 9\, 2026 will be discussed.
URL:https://demnpl.com/event/dem-npl-district-1-and-district-23/
LOCATION:Saga’s\, 18 2nd St E\, Williston\, N\, 58801\, United States
CATEGORIES:Dem-NPL
END:VEVENT
BEGIN:VEVENT
DTSTART;TZID=America/North_Dakota/Center:20260423T180000
DTEND;TZID=America/North_Dakota/Center:20260423T193000
DTSTAMP:20260425T091618
CREATED:20260420T144106Z
LAST-MODIFIED:20260420T144106Z
UID:10002766-1776967200-1776972600@demnpl.com
SUMMARY:Meet and Greet with Jolene Bruce for 27
DESCRIPTION:Meet and greet for helpers to win district 27 house
URL:https://demnpl.com/event/meet-and-greet-with-jolene-bruce-for-27/
LOCATION:the grove\, 574 Main St N\, Horace nd\, Horace\, 58047
CATEGORIES:Dem-NPL
END:VEVENT
BEGIN:VEVENT
DTSTART;TZID=America/North_Dakota/Center:20260424T180000
DTEND;TZID=America/North_Dakota/Center:20260424T200000
DTSTAMP:20260425T091618
CREATED:20260206T202352Z
LAST-MODIFIED:20260206T202352Z
UID:10002698-1777053600-1777060800@demnpl.com
SUMMARY:Finally Friday Social in Minot!
DESCRIPTION:Time to celebrate the weekend!
URL:https://demnpl.com/event/finally-friday-social-in-minot/2026-04-24/
LOCATION:The Spot\, 6 2nd St NE\, Minot\, ND\, United States
CATEGORIES:Dem-NPL
ORGANIZER;CN="Souris Valley Dem-NPL":MAILTO:chair@sourisvalleydemnpl.com
END:VEVENT
BEGIN:VEVENT
DTSTART;TZID=America/North_Dakota/Center:20260426T120000
DTEND;TZID=America/North_Dakota/Center:20260427T140000
DTSTAMP:20260425T091618
CREATED:20260420T160207Z
LAST-MODIFIED:20260420T161544Z
UID:10002767-1777204800-1777298400@demnpl.com
SUMMARY:Hammer for ND Meet & Greet
DESCRIPTION:Join for good food\, beverages\, and company! This is a chance to ask questions to a U.S. House of Representatives candidate who wants to hear from the people of ND. \nThis event is free and open-house style. If you have other Sunday commitments\, you can stop by for 10 minutes or the whole two hours!
URL:https://demnpl.com/event/hammer-for-nd-meet-greet/
LOCATION:Deer Ridge Apartments\, 800 12th Ave NE\, Jamestown\, ND\, 58401\, United States
CATEGORIES:Dem-NPL
END:VEVENT
BEGIN:VEVENT
DTSTART;TZID=America/North_Dakota/Center:20260427T180000
DTEND;TZID=America/North_Dakota/Center:20260427T200000
DTSTAMP:20260425T091618
CREATED:20260413T205721Z
LAST-MODIFIED:20260413T205721Z
UID:10002757-1777312800-1777320000@demnpl.com
SUMMARY:Voter Contact Initiative - get ready to win!
DESCRIPTION:WE NEED YOU! \nHelp Us Reach Voters in North Dakota!\nNorth Dakota is the only state without voter registration\, which means we have to work extra hard to connect with voters and build our contact list. \nThat’s where the Voter Contact Initiative (VCI) comes in — and we need your help! \nJoin the Bismarck–Mandan Democratic-NPL for a quick training and community call night: \n🗓 Every Monday!\n⏰ 6:00–8:00 PM\n📍 Kennedy Center (1902 E Divide Ave) \nYou’ll learn how to make quick calls that help us update voter information and strengthen our organizing before the next election. Once you learn the system\, you can make calls anytime from home — but we’ll also keep meeting Monday nights at 6 PM for those who like the energy of doing it together. \n📱 Bring:\n• Your cell phone\n• A laptop or iPad \nPeople have already been making calls the past few weeks and it’s making a real difference. Come be part of it! \n👉 Whether you’re new or experienced\, we’d love to have you.
URL:https://demnpl.com/event/voter-contact-initiative-get-ready-to-win/2026-04-27/
LOCATION:Kennedy Center\, 1902 E Divide Ave\, Bismarck\, ND\, 58501\, United States
CATEGORIES:Dem-NPL
GEO:46.8237099;-100.7622754
X-APPLE-STRUCTURED-LOCATION;VALUE=URI;X-ADDRESS=Kennedy Center 1902 E Divide Ave Bismarck ND 58501 United States;X-APPLE-RADIUS=500;X-TITLE=1902 E Divide Ave:geo:-100.7622754,46.8237099
END:VEVENT
BEGIN:VEVENT
DTSTART;TZID=America/North_Dakota/Center:20260501T180000
DTEND;TZID=America/North_Dakota/Center:20260501T200000
DTSTAMP:20260425T091618
CREATED:20260206T202352Z
LAST-MODIFIED:20260206T202352Z
UID:10002699-1777658400-1777665600@demnpl.com
SUMMARY:Finally Friday Social in Minot!
DESCRIPTION:Time to celebrate the weekend!
URL:https://demnpl.com/event/finally-friday-social-in-minot/2026-05-01/
LOCATION:The Spot\, 6 2nd St NE\, Minot\, ND\, United States
CATEGORIES:Dem-NPL
ORGANIZER;CN="Souris Valley Dem-NPL":MAILTO:chair@sourisvalleydemnpl.com
END:VEVENT
BEGIN:VEVENT
DTSTART;TZID=America/North_Dakota/Center:20260502T110000
DTEND;TZID=America/North_Dakota/Center:20260502T160000
DTSTAMP:20260425T091618
CREATED:20260325T163334Z
LAST-MODIFIED:20260325T164458Z
UID:10002750-1777719600-1777737600@demnpl.com
SUMMARY:Policy Committee Meeting
DESCRIPTION:The Policy Committee is comprised of Executive Committee\, district chairs\, and a second rep. from each district.
URL:https://demnpl.com/event/policy-committee-meeting-4/
LOCATION:Sixteen 03\, 1603 East Main Ave.\, Bismarck\, ND\, 58501\, United States
CATEGORIES:Dem-NPL
ORGANIZER;CN="North Dakota Democratic-NPL Party":MAILTO:people@demnpl.com
END:VEVENT
BEGIN:VEVENT
DTSTART;TZID=America/North_Dakota/Center:20260504T180000
DTEND;TZID=America/North_Dakota/Center:20260504T200000
DTSTAMP:20260425T091618
CREATED:20260413T205721Z
LAST-MODIFIED:20260413T205721Z
UID:10002758-1777917600-1777924800@demnpl.com
SUMMARY:Voter Contact Initiative - get ready to win!
DESCRIPTION:WE NEED YOU! \nHelp Us Reach Voters in North Dakota!\nNorth Dakota is the only state without voter registration\, which means we have to work extra hard to connect with voters and build our contact list. \nThat’s where the Voter Contact Initiative (VCI) comes in — and we need your help! \nJoin the Bismarck–Mandan Democratic-NPL for a quick training and community call night: \n🗓 Every Monday!\n⏰ 6:00–8:00 PM\n📍 Kennedy Center (1902 E Divide Ave) \nYou’ll learn how to make quick calls that help us update voter information and strengthen our organizing before the next election. Once you learn the system\, you can make calls anytime from home — but we’ll also keep meeting Monday nights at 6 PM for those who like the energy of doing it together. \n📱 Bring:\n• Your cell phone\n• A laptop or iPad \nPeople have already been making calls the past few weeks and it’s making a real difference. Come be part of it! \n👉 Whether you’re new or experienced\, we’d love to have you.
URL:https://demnpl.com/event/voter-contact-initiative-get-ready-to-win/2026-05-04/
LOCATION:Kennedy Center\, 1902 E Divide Ave\, Bismarck\, ND\, 58501\, United States
CATEGORIES:Dem-NPL
GEO:46.8237099;-100.7622754
X-APPLE-STRUCTURED-LOCATION;VALUE=URI;X-ADDRESS=Kennedy Center 1902 E Divide Ave Bismarck ND 58501 United States;X-APPLE-RADIUS=500;X-TITLE=1902 E Divide Ave:geo:-100.7622754,46.8237099
END:VEVENT
BEGIN:VEVENT
DTSTART;TZID=America/North_Dakota/Center:20260508T180000
DTEND;TZID=America/North_Dakota/Center:20260508T200000
DTSTAMP:20260425T091618
CREATED:20260206T202352Z
LAST-MODIFIED:20260206T202352Z
UID:10002700-1778263200-1778270400@demnpl.com
SUMMARY:Finally Friday Social in Minot!
DESCRIPTION:Time to celebrate the weekend!
URL:https://demnpl.com/event/finally-friday-social-in-minot/2026-05-08/
LOCATION:The Spot\, 6 2nd St NE\, Minot\, ND\, United States
CATEGORIES:Dem-NPL
ORGANIZER;CN="Souris Valley Dem-NPL":MAILTO:chair@sourisvalleydemnpl.com
END:VEVENT
BEGIN:VEVENT
DTSTART;TZID=America/North_Dakota/Center:20260509T110000
DTEND;TZID=America/North_Dakota/Center:20260509T140000
DTSTAMP:20260425T091618
CREATED:20260413T210627Z
LAST-MODIFIED:20260413T210627Z
UID:10002762-1778324400-1778335200@demnpl.com
SUMMARY:May Membership Mixer
DESCRIPTION:What used to be our annual May Event is now our May Membership Mixer! This event has always been about supporting our candidates and giving them a friendly audience to practice their speeches! \nJoin us for our annual Membership Mixer: \nMeet the Candidates\nWhen: Saturday\, May 9th\, 11:00 AM – 2:00 PM\nWhere: Holiday Inn\n🎟️ Tickets: $25 \nBrunch will be a buffet catered by Holiday Inn. Cheesy scrambled eggs\, smoked bacon\, breakfast sausage\, seasoned breakfast potatoes\, fresh fruit\, assorted muffins\, and Liege Belgian waffles with berries\, syrup and whipped cream. Served with hot tea\, fruit juice\, and gourmet premium coffee. \nIf you have any questions about the menu or have dietary requests\, please let us know at casscountydemsunited@gmail.com
URL:https://demnpl.com/event/may-membership-mixer/
LOCATION:Holiday Inn\, 3803 13th Ave S\, Fargo\, ND\, 58103\, United States
CATEGORIES:Dem-NPL
END:VEVENT
BEGIN:VEVENT
DTSTART;TZID=America/North_Dakota/Center:20260511T180000
DTEND;TZID=America/North_Dakota/Center:20260511T200000
DTSTAMP:20260425T091618
CREATED:20260413T205721Z
LAST-MODIFIED:20260413T205721Z
UID:10002759-1778522400-1778529600@demnpl.com
SUMMARY:Voter Contact Initiative - get ready to win!
DESCRIPTION:WE NEED YOU! \nHelp Us Reach Voters in North Dakota!\nNorth Dakota is the only state without voter registration\, which means we have to work extra hard to connect with voters and build our contact list. \nThat’s where the Voter Contact Initiative (VCI) comes in — and we need your help! \nJoin the Bismarck–Mandan Democratic-NPL for a quick training and community call night: \n🗓 Every Monday!\n⏰ 6:00–8:00 PM\n📍 Kennedy Center (1902 E Divide Ave) \nYou’ll learn how to make quick calls that help us update voter information and strengthen our organizing before the next election. Once you learn the system\, you can make calls anytime from home — but we’ll also keep meeting Monday nights at 6 PM for those who like the energy of doing it together. \n📱 Bring:\n• Your cell phone\n• A laptop or iPad \nPeople have already been making calls the past few weeks and it’s making a real difference. Come be part of it! \n👉 Whether you’re new or experienced\, we’d love to have you.
URL:https://demnpl.com/event/voter-contact-initiative-get-ready-to-win/2026-05-11/
LOCATION:Kennedy Center\, 1902 E Divide Ave\, Bismarck\, ND\, 58501\, United States
CATEGORIES:Dem-NPL
GEO:46.8237099;-100.7622754
X-APPLE-STRUCTURED-LOCATION;VALUE=URI;X-ADDRESS=Kennedy Center 1902 E Divide Ave Bismarck ND 58501 United States;X-APPLE-RADIUS=500;X-TITLE=1902 E Divide Ave:geo:-100.7622754,46.8237099
END:VEVENT
BEGIN:VEVENT
DTSTART;TZID=America/North_Dakota/Center:20260513T190000
DTEND;TZID=America/North_Dakota/Center:20260513T200000
DTSTAMP:20260425T091618
CREATED:20250805T151646Z
LAST-MODIFIED:20250805T151646Z
UID:10002499-1778698800-1778702400@demnpl.com
SUMMARY:Dickinson Area Democratic-NPL meeting
DESCRIPTION:Districts 37\, 36\, and 39 meet every second Wednesday after Drinking Liberally!
URL:https://demnpl.com/event/dickinson-area-democratic-npl-meeting/2026-05-13/
LOCATION:The Press Box at Players Sports Bar & Grill\, 2050 1st Ave E\, Dickinson\, ND\, 58601\, United States
CATEGORIES:Dem-NPL
END:VEVENT
BEGIN:VEVENT
DTSTART;TZID=America/North_Dakota/Center:20260515T180000
DTEND;TZID=America/North_Dakota/Center:20260515T200000
DTSTAMP:20260425T091618
CREATED:20260206T202352Z
LAST-MODIFIED:20260206T202352Z
UID:10002701-1778868000-1778875200@demnpl.com
SUMMARY:Finally Friday Social in Minot!
DESCRIPTION:Time to celebrate the weekend!
URL:https://demnpl.com/event/finally-friday-social-in-minot/2026-05-15/
LOCATION:The Spot\, 6 2nd St NE\, Minot\, ND\, United States
CATEGORIES:Dem-NPL
ORGANIZER;CN="Souris Valley Dem-NPL":MAILTO:chair@sourisvalleydemnpl.com
END:VEVENT
BEGIN:VEVENT
DTSTART;TZID=America/North_Dakota/Center:20260518T180000
DTEND;TZID=America/North_Dakota/Center:20260518T200000
DTSTAMP:20260425T091618
CREATED:20260413T205721Z
LAST-MODIFIED:20260413T205721Z
UID:10002760-1779127200-1779134400@demnpl.com
SUMMARY:Voter Contact Initiative - get ready to win!
DESCRIPTION:WE NEED YOU! \nHelp Us Reach Voters in North Dakota!\nNorth Dakota is the only state without voter registration\, which means we have to work extra hard to connect with voters and build our contact list. \nThat’s where the Voter Contact Initiative (VCI) comes in — and we need your help! \nJoin the Bismarck–Mandan Democratic-NPL for a quick training and community call night: \n🗓 Every Monday!\n⏰ 6:00–8:00 PM\n📍 Kennedy Center (1902 E Divide Ave) \nYou’ll learn how to make quick calls that help us update voter information and strengthen our organizing before the next election. Once you learn the system\, you can make calls anytime from home — but we’ll also keep meeting Monday nights at 6 PM for those who like the energy of doing it together. \n📱 Bring:\n• Your cell phone\n• A laptop or iPad \nPeople have already been making calls the past few weeks and it’s making a real difference. Come be part of it! \n👉 Whether you’re new or experienced\, we’d love to have you.
URL:https://demnpl.com/event/voter-contact-initiative-get-ready-to-win/2026-05-18/
LOCATION:Kennedy Center\, 1902 E Divide Ave\, Bismarck\, ND\, 58501\, United States
CATEGORIES:Dem-NPL
GEO:46.8237099;-100.7622754
X-APPLE-STRUCTURED-LOCATION;VALUE=URI;X-ADDRESS=Kennedy Center 1902 E Divide Ave Bismarck ND 58501 United States;X-APPLE-RADIUS=500;X-TITLE=1902 E Divide Ave:geo:-100.7622754,46.8237099
END:VEVENT
BEGIN:VEVENT
DTSTART;TZID=America/North_Dakota/Center:20260518T180000
DTEND;TZID=America/North_Dakota/Center:20260518T203000
DTSTAMP:20260425T091618
CREATED:20260422T174639Z
LAST-MODIFIED:20260422T174639Z
UID:10002769-1779127200-1779136200@demnpl.com
SUMMARY:Meet D41 Candidates
DESCRIPTION:Meet D41 Candidates: \nDr. Chris Tiongson for ND House \nStacy Heidenreich for ND House \nNyamal Dei for ND Senate
URL:https://demnpl.com/event/meet-d41-candidates/
LOCATION:Fargo Parks Sports Center\, 6100 38th St S\, Fargo\, ND\, 58104\, United States
CATEGORIES:Dem-NPL
END:VEVENT
BEGIN:VEVENT
DTSTART;TZID=America/North_Dakota/Center:20260518T190000
DTEND;TZID=America/North_Dakota/Center:20260518T203000
DTSTAMP:20260425T091618
CREATED:20250523T175559Z
LAST-MODIFIED:20250523T175600Z
UID:10002407-1779130800-1779136200@demnpl.com
SUMMARY:Executive Committee Meeting
DESCRIPTION:The Executive Committee Meeting for the State Democratic-NPL Party. Each Third Monday of the Month \nFor more information contact Adam Goldwyn at adam.goldwyn@demnpl.com
URL:https://demnpl.com/event/executive-committee-meeting-9-3/2026-05-18/
LOCATION:ND
CATEGORIES:Dem-NPL
ORGANIZER;CN="North Dakota Democratic-NPL Party":MAILTO:people@demnpl.com
END:VEVENT
BEGIN:VEVENT
DTSTART;TZID=America/North_Dakota/Center:20260520T170000
DTEND;TZID=America/North_Dakota/Center:20260520T180000
DTSTAMP:20260425T091618
CREATED:20251017T144627Z
LAST-MODIFIED:20251017T144627Z
UID:10002569-1779296400-1779300000@demnpl.com
SUMMARY:District 11 Meeting
DESCRIPTION:District 11 Democratic-NPL meets every 3rd Wednesday of the month
URL:https://demnpl.com/event/district-11-meeting-3/2026-05-20/
LOCATION:1325 23rd St S\, Suite B\, Fargo\, ND 58103\, N\, United States
CATEGORIES:Dem-NPL
END:VEVENT
BEGIN:VEVENT
DTSTART;TZID=America/North_Dakota/Center:20260522T180000
DTEND;TZID=America/North_Dakota/Center:20260522T200000
DTSTAMP:20260425T091618
CREATED:20260206T202352Z
LAST-MODIFIED:20260206T202352Z
UID:10002702-1779472800-1779480000@demnpl.com
SUMMARY:Finally Friday Social in Minot!
DESCRIPTION:Time to celebrate the weekend!
URL:https://demnpl.com/event/finally-friday-social-in-minot/2026-05-22/
LOCATION:The Spot\, 6 2nd St NE\, Minot\, ND\, United States
CATEGORIES:Dem-NPL
ORGANIZER;CN="Souris Valley Dem-NPL":MAILTO:chair@sourisvalleydemnpl.com
END:VEVENT
BEGIN:VEVENT
DTSTART;TZID=America/North_Dakota/Center:20260525T180000
DTEND;TZID=America/North_Dakota/Center:20260525T200000
DTSTAMP:20260425T091618
CREATED:20260413T205721Z
LAST-MODIFIED:20260413T205721Z
UID:10002761-1779732000-1779739200@demnpl.com
SUMMARY:Voter Contact Initiative - get ready to win!
DESCRIPTION:WE NEED YOU! \nHelp Us Reach Voters in North Dakota!\nNorth Dakota is the only state without voter registration\, which means we have to work extra hard to connect with voters and build our contact list. \nThat’s where the Voter Contact Initiative (VCI) comes in — and we need your help! \nJoin the Bismarck–Mandan Democratic-NPL for a quick training and community call night: \n🗓 Every Monday!\n⏰ 6:00–8:00 PM\n📍 Kennedy Center (1902 E Divide Ave) \nYou’ll learn how to make quick calls that help us update voter information and strengthen our organizing before the next election. Once you learn the system\, you can make calls anytime from home — but we’ll also keep meeting Monday nights at 6 PM for those who like the energy of doing it together. \n📱 Bring:\n• Your cell phone\n• A laptop or iPad \nPeople have already been making calls the past few weeks and it’s making a real difference. Come be part of it! \n👉 Whether you’re new or experienced\, we’d love to have you.
URL:https://demnpl.com/event/voter-contact-initiative-get-ready-to-win/2026-05-25/
LOCATION:Kennedy Center\, 1902 E Divide Ave\, Bismarck\, ND\, 58501\, United States
CATEGORIES:Dem-NPL
GEO:46.8237099;-100.7622754
X-APPLE-STRUCTURED-LOCATION;VALUE=URI;X-ADDRESS=Kennedy Center 1902 E Divide Ave Bismarck ND 58501 United States;X-APPLE-RADIUS=500;X-TITLE=1902 E Divide Ave:geo:-100.7622754,46.8237099
END:VEVENT
BEGIN:VEVENT
DTSTART;TZID=America/North_Dakota/Center:20260529T180000
DTEND;TZID=America/North_Dakota/Center:20260529T200000
DTSTAMP:20260425T091618
CREATED:20260206T202352Z
LAST-MODIFIED:20260206T202352Z
UID:10002703-1780077600-1780084800@demnpl.com
SUMMARY:Finally Friday Social in Minot!
DESCRIPTION:Time to celebrate the weekend!
URL:https://demnpl.com/event/finally-friday-social-in-minot/2026-05-29/
LOCATION:The Spot\, 6 2nd St NE\, Minot\, ND\, United States
CATEGORIES:Dem-NPL
ORGANIZER;CN="Souris Valley Dem-NPL":MAILTO:chair@sourisvalleydemnpl.com
END:VEVENT
BEGIN:VEVENT
DTSTART;TZID=America/North_Dakota/Center:20260605T180000
DTEND;TZID=America/North_Dakota/Center:20260605T200000
DTSTAMP:20260425T091618
CREATED:20260206T202352Z
LAST-MODIFIED:20260206T202352Z
UID:10002704-1780682400-1780689600@demnpl.com
SUMMARY:Finally Friday Social in Minot!
DESCRIPTION:Time to celebrate the weekend!
URL:https://demnpl.com/event/finally-friday-social-in-minot/2026-06-05/
LOCATION:The Spot\, 6 2nd St NE\, Minot\, ND\, United States
CATEGORIES:Dem-NPL
ORGANIZER;CN="Souris Valley Dem-NPL":MAILTO:chair@sourisvalleydemnpl.com
END:VEVENT
BEGIN:VEVENT
DTSTART;TZID=America/North_Dakota/Center:20260610T190000
DTEND;TZID=America/North_Dakota/Center:20260610T200000
DTSTAMP:20260425T091618
CREATED:20250805T151646Z
LAST-MODIFIED:20250805T151646Z
UID:10002500-1781118000-1781121600@demnpl.com
SUMMARY:Dickinson Area Democratic-NPL meeting
DESCRIPTION:Districts 37\, 36\, and 39 meet every second Wednesday after Drinking Liberally!
URL:https://demnpl.com/event/dickinson-area-democratic-npl-meeting/2026-06-10/
LOCATION:The Press Box at Players Sports Bar & Grill\, 2050 1st Ave E\, Dickinson\, ND\, 58601\, United States
CATEGORIES:Dem-NPL
END:VEVENT
BEGIN:VEVENT
DTSTART;TZID=America/North_Dakota/Center:20260612T180000
DTEND;TZID=America/North_Dakota/Center:20260612T200000
DTSTAMP:20260425T091618
CREATED:20260206T202352Z
LAST-MODIFIED:20260206T202352Z
UID:10002705-1781287200-1781294400@demnpl.com
SUMMARY:Finally Friday Social in Minot!
DESCRIPTION:Time to celebrate the weekend!
URL:https://demnpl.com/event/finally-friday-social-in-minot/2026-06-12/
LOCATION:The Spot\, 6 2nd St NE\, Minot\, ND\, United States
CATEGORIES:Dem-NPL
ORGANIZER;CN="Souris Valley Dem-NPL":MAILTO:chair@sourisvalleydemnpl.com
END:VEVENT
END:VCALENDAR