BEGIN:VCALENDAR
VERSION:2.0
PRODID:-//Dem-NPL Party - ECPv6.15.20//NONSGML v1.0//EN
CALSCALE:GREGORIAN
METHOD:PUBLISH
X-ORIGINAL-URL:https://demnpl.com
X-WR-CALDESC:Events for Dem-NPL Party
REFRESH-INTERVAL;VALUE=DURATION:PT1H
X-Robots-Tag:noindex
X-PUBLISHED-TTL:PT1H
BEGIN:VTIMEZONE
TZID:America/North_Dakota/Center
BEGIN:DAYLIGHT
TZOFFSETFROM:-0600
TZOFFSETTO:-0500
TZNAME:CDT
DTSTART:20250309T080000
END:DAYLIGHT
BEGIN:STANDARD
TZOFFSETFROM:-0500
TZOFFSETTO:-0600
TZNAME:CST
DTSTART:20251102T070000
END:STANDARD
BEGIN:DAYLIGHT
TZOFFSETFROM:-0600
TZOFFSETTO:-0500
TZNAME:CDT
DTSTART:20260308T080000
END:DAYLIGHT
BEGIN:STANDARD
TZOFFSETFROM:-0500
TZOFFSETTO:-0600
TZNAME:CST
DTSTART:20261101T070000
END:STANDARD
BEGIN:DAYLIGHT
TZOFFSETFROM:-0600
TZOFFSETTO:-0500
TZNAME:CDT
DTSTART:20270314T080000
END:DAYLIGHT
BEGIN:STANDARD
TZOFFSETFROM:-0500
TZOFFSETTO:-0600
TZNAME:CST
DTSTART:20271107T070000
END:STANDARD
END:VTIMEZONE
BEGIN:VEVENT
DTSTART;TZID=America/North_Dakota/Center:20260422T180000
DTEND;TZID=America/North_Dakota/Center:20260422T193000
DTSTAMP:20260425T072651
CREATED:20260413T203334Z
LAST-MODIFIED:20260413T204544Z
UID:10002753-1776880800-1776886200@demnpl.com
SUMMARY:Dem-NPL District 1 and District 23
DESCRIPTION:Join us for ND Dem-NPL District 1 and District 23 monthly meeting on Wednesday\, April 22nd at 6:00 pm at Saga’s Restaurant\, 18 2nd St East\, Williston\, ND. Mark your calendars!  Food and drink is available\, but not required. Our agenda will include discussion of any local\, state\, and federal issues that affect us\, as well as an election forum at the new Healthcare Training facility on WSC campus on Tuesday\, May 5 from 6-7:30 pm sponsored by the Williston Area Chamber of Commerce. All are encouraged to attend.  Also\, activities for Band Day May 9\, 2026 will be discussed.
URL:https://demnpl.com/event/dem-npl-district-1-and-district-23/
LOCATION:Saga’s\, 18 2nd St E\, Williston\, N\, 58801\, United States
CATEGORIES:Dem-NPL
END:VEVENT
END:VCALENDAR