BEGIN:VCALENDAR
VERSION:2.0
PRODID:-//Dem-NPL Party - ECPv6.15.20//NONSGML v1.0//EN
CALSCALE:GREGORIAN
METHOD:PUBLISH
X-ORIGINAL-URL:https://demnpl.com
X-WR-CALDESC:Events for Dem-NPL Party
REFRESH-INTERVAL;VALUE=DURATION:PT1H
X-Robots-Tag:noindex
X-PUBLISHED-TTL:PT1H
BEGIN:VTIMEZONE
TZID:America/North_Dakota/Center
BEGIN:DAYLIGHT
TZOFFSETFROM:-0600
TZOFFSETTO:-0500
TZNAME:CDT
DTSTART:20250309T080000
END:DAYLIGHT
BEGIN:STANDARD
TZOFFSETFROM:-0500
TZOFFSETTO:-0600
TZNAME:CST
DTSTART:20251102T070000
END:STANDARD
BEGIN:DAYLIGHT
TZOFFSETFROM:-0600
TZOFFSETTO:-0500
TZNAME:CDT
DTSTART:20260308T080000
END:DAYLIGHT
BEGIN:STANDARD
TZOFFSETFROM:-0500
TZOFFSETTO:-0600
TZNAME:CST
DTSTART:20261101T070000
END:STANDARD
BEGIN:DAYLIGHT
TZOFFSETFROM:-0600
TZOFFSETTO:-0500
TZNAME:CDT
DTSTART:20270314T080000
END:DAYLIGHT
BEGIN:STANDARD
TZOFFSETFROM:-0500
TZOFFSETTO:-0600
TZNAME:CST
DTSTART:20271107T070000
END:STANDARD
END:VTIMEZONE
BEGIN:VEVENT
DTSTART;TZID=America/North_Dakota/Center:20260201T140000
DTEND;TZID=America/North_Dakota/Center:20260201T160000
DTSTAMP:20260423T042249
CREATED:20260108T220729Z
LAST-MODIFIED:20260108T220729Z
UID:10002666-1769954400-1769961600@demnpl.com
SUMMARY:District 9 Democratic-NPL Convention
DESCRIPTION:Join us for the District 9 Democratic-NPL Convention to nominate candidates for the legislature and to elect delegates to the State Convention in Bismarck!
URL:https://demnpl.com/event/district-9-democratic-npl-convention/
LOCATION:Sky Dancer Casino and Resort\, 3965 Sky Dancer Way NE\, Belcourt\, ND\, 58316\, United States
CATEGORIES:Dem-NPL,District Convention
END:VEVENT
BEGIN:VEVENT
DTSTART;TZID=America/North_Dakota/Center:20260201T140000
DTEND;TZID=America/North_Dakota/Center:20260201T160000
DTSTAMP:20260423T042249
CREATED:20260115T004344Z
LAST-MODIFIED:20260115T004344Z
UID:10002673-1769954400-1769961600@demnpl.com
SUMMARY:District 29 Democratic-NPL
DESCRIPTION:Join us for the District 29 Democratic-NPL Convention! Delegates will be selected for the State Convention in Bismarck and endorse candidates for the N.D. House of Representatives and N.D. Senate.
URL:https://demnpl.com/event/district-29-democratic-npl/
LOCATION:Pekin Community Center\, 204 Main Street\, Pekin\, ND\, 58362\, United States
CATEGORIES:Dem-NPL,District Convention
END:VEVENT
END:VCALENDAR